Workbook

Sheet 秉冠音響出貨單
A1: 理貨人：
A2: 秉冠有限公司【音響 出貨單】
A3: 客戶： 活動地點： 進場：月日 撤場：月日 演出場次：
A4: 音響設備
A5: 音響控台設備 | B5: 數量 | C5: 備用 | D5: V | E5: 備註 | J5: 位置
E6: =IFERROR(VLOOKUP($A6,秉冠音響清單!$A$1:$B$193,2,0)&"","") | J6: =IFERROR(VLOOKUP($A6,秉冠音響清單!$A$1:$C$193,3,0)&"","")
E7: =IFERROR(VLOOKUP($A7,秉冠音響清單!$A$1:$B$193,2,0)&"","") | J7: =IFERROR(VLOOKUP($A7,秉冠音響清單!$A$1:$C$193,3,0)&"","")
A8: 音響控台擴充配件 / StageBox | B8: 數量 | C8: 備用 | D8: V | E8: 備註 | J8: 位置
E9: =IFERROR(VLOOKUP($A9,秉冠音響清單!$A$1:$B$193,2,0)&"","") | J9: =IFERROR(VLOOKUP($A9,秉冠音響清單!$A$1:$C$193,3,0)&"","")
E10: =IFERROR(VLOOKUP($A10,秉冠音響清單!$A$1:$B$193,2,0)&"","") | J10: =IFERROR(VLOOKUP($A10,秉冠音響清單!$A$1:$C$193,3,0)&"","")
A11: 主動式喇叭類及配件 | B11: 數量 | C11: 備用 | D11: V | E11: 備註 | J11: 位置
E12: =IFERROR(VLOOKUP($A12,秉冠音響清單!$A$1:$B$193,2,0)&"","") | J12: =IFERROR(VLOOKUP($A12,秉冠音響清單!$A$1:$C$193,3,0)&"","")
E13: =IFERROR(VLOOKUP($A13,秉冠音響清單!$A$1:$B$193,2,0)&"","") | J13: =IFERROR(VLOOKUP($A13,秉冠音響清單!$A$1:$C$193,3,0)&"","")
E14: =IFERROR(VLOOKUP($A14,秉冠音響清單!$A$1:$B$193,2,0)&"","") | J14: =IFERROR(VLOOKUP($A14,秉冠音響清單!$A$1:$C$193,3,0)&"","")
A15: 被動式喇叭類及配件 | B15: 數量 | C15: 備用 | D15: V | E15: 備註 | J15: 位置
E16: =IFERROR(VLOOKUP($A16,秉冠音響清單!$A$1:$B$193,2,0)&"","") | J16: =IFERROR(VLOOKUP($A16,秉冠音響清單!$A$1:$C$193,3,0)&"","")
E17: =IFERROR(VLOOKUP($A17,秉冠音響清單!$A$1:$B$193,2,0)&"","") | J17: =IFERROR(VLOOKUP($A17,秉冠音響清單!$A$1:$C$193,3,0)&"","")
A18: 擴大機AMPLIFIER | B18: 數量 | C18: 備用 | D18: V | E18: 備註 | J18: 位置
E19: =IFERROR(VLOOKUP($A19,秉冠音響清單!$A$1:$B$193,2,0)&"","") | J19: =IFERROR(VLOOKUP($A19,秉冠音響清單!$A$1:$C$193,3,0)&"","")
E20: =IFERROR(VLOOKUP($A20,秉冠音響清單!$A$1:$B$193,2,0)&"","") | J20: =IFERROR(VLOOKUP($A20,秉冠音響清單!$A$1:$C$193,3,0)&"","")
A21: LA 喇叭系統及配件 | B21: 數量 | C21: 備用 | D21: V | E21: 備註 | J21: 位置
J22: =IFERROR(VLOOKUP($A22,秉冠音響清單!$A$1:$C$193,3,0)&"","")
E23: =IFERROR(VLOOKUP($A23,秉冠音響清單!$A$1:$B$193,2,0)&"","") | J23: =IFERROR(VLOOKUP($A23,秉冠音響清單!$A$1:$C$193,3,0)&"","")
A24: 喇叭架及馬達 | B24: 數量 | C24: 備用 | D24: V | E24: 備註 | J24: 位置
E25: =IFERROR(VLOOKUP($A25,秉冠音響清單!$A$1:$B$193,2,0)&"","")
E26: =IFERROR(VLOOKUP($A26,秉冠音響清單!$A$1:$B$193,2,0)&"","") | J26: =IFERROR(VLOOKUP($A26,秉冠音響清單!$A$1:$C$193,3,0)&"","")
A27: MIPRO 無線麥克風 | B27: 數量 | C27: 備用 | D27: V | E27: 備註 | J27: 位置
E28: =IFERROR(VLOOKUP($A28,秉冠音響清單!$A$1:$B$193,2,0)&"","") | J28: =IFERROR(VLOOKUP($A28,秉冠音響清單!$A$1:$C$193,3,0)&"","")
E29: =IFERROR(VLOOKUP($A29,秉冠音響清單!$A$1:$B$193,2,0)&"","")
E30: =IFERROR(VLOOKUP($A30,秉冠音響清單!$A$1:$B$193,2,0)&"","") | J30: =IFERROR(VLOOKUP($A30,秉冠音響清單!$A$1:$C$193,3,0)&"","")
A31: SHURE/SENNHEISER/DPA/ IEM | B31: 數量 | C31: 備用 | D31: V | E31: 備註 | J31: 位置
E32: =IFERROR(VLOOKUP($A32,秉冠音響清單!$A$1:$B$193,2,0)&"","") | J32: =IFERROR(VLOOKUP($A32,秉冠音響清單!$A$1:$C$193,3,0)&"","")
E33: =IFERROR(VLOOKUP($A33,秉冠音響清單!$A$1:$B$193,2,0)&"","") | J33: =IFERROR(VLOOKUP($A33,秉冠音響清單!$A$1:$C$193,3,0)&"","")
A34: 麥克風強波器天線 | B34: 數量 | C34: 備用 | D34: V | E34: 備註 | J34: 位置
E35: =IFERROR(VLOOKUP($A35,秉冠音響清單!$A$1:$B$193,2,0)&"","")
E36: =IFERROR(VLOOKUP($A36,秉冠音響清單!$A$1:$B$193,2,0)&"","")
A37: 有線麥克風 | B37: 數量 | C37: 備用 | D37: V | E37: 備註 | J37: 位置
E38: =IFERROR(VLOOKUP($A38,秉冠音響清單!$A$1:$B$193,2,0)&"","") | J38: =IFERROR(VLOOKUP($A38,秉冠音響清單!$A$1:$C$193,3,0)&"","")
E39: =IFERROR(VLOOKUP($A39,秉冠音響清單!$A$1:$B$193,2,0)&"","") | J39: =IFERROR(VLOOKUP($A39,秉冠音響清單!$A$1:$C$193,3,0)&"","")
E42: =IFERROR(VLOOKUP($A42,秉冠音響清單!$A$1:$B$193,2,0)&"","") | J42: =IFERROR(VLOOKUP($A42,秉冠音響清單!$A$1:$C$193,3,0)&"","")
...

Sheet 秉冠音響清單
A1: 音響設備
A2: 音響控台設備
A3: 設備 | B3: 固定配件/備註 | C3: 位置
A4: [MIDAS] M32 (32CH) | C4: B361
A5: [SoundCraft] SI Performer 3 (32CH) | C5: B335
A6: [SoundCraft] SI Performer 2 (24CH) | C6: B333
A7: [SoundCraft] Si Expression 1 (16CH) | C7: B332
A8: [Behringer] WING Compact (16CH)
A9: [Behringer] WING-BK (32CH)
A10: [YAMAHA] LS9 (32CH) | C10: B337
A11: [YAMAHA] MG166CX (16CH) | C11: B331
A12: [SoundCraft] EFX8 (8CH) | C12: B323
A13: [RCF] L-PAD 8CX (8CH) | C13: B321
A14: [Allen&Heath] ZED60-14FX (14CH) | C14: B322
A15: 音響控台StageBox 擴充
A16: 設備 | B16: 固定配件/備註 | C16: 位置
A17: [MIDAS] M32 Stage Box DL-153 | B17: 16in / 8out | C17: B336
A18: [MIDAS] DL32 Stage Box | B18: 32in / 16out
A19: [SoundCraft] Mini Stage Box | B19: 32in / 8out | C19: B361
A20: [SoundCraft] Compact Stage box | B20: 32in / 16out | C20: B362
A21: [Behringer] ADAT-8000＆光纖線 | C21: B511
A22: 主動式喇叭類及配件
A23: 設備 | B23: 固定配件/備註 | C23: 位置
A24: [JBL] PRX 715P (15吋) | C24: A9
A25: [JBL] SRX 815P (15吋) | C25: A7
A26: [RCF] ART 708-A MK4 (8吋) | C26: B221
A27: [JBL] 715P/815P 直立式喇叭吊架
A28: [JBL] 715P/815P 橫式喇叭吊架
A29: [三星] Auro D208 (8吋) | C29: B372
A30: 被動式喇叭類及配件
A31: 設備 | B31: 固定配件/備註 | C31: 位置
A32: [JBL] STX 815M (15吋) | C32: B221
A33: [JBL] STX 812M (12吋) | C33: B221
A34: [JBL] 618 (18吋SUB) | C34: B222
A35: HD-12 (12吋) | C35: B222
A36: AMPLIFIER擴大機
A37: 設備 | B37: 固定配件/備註 | C37: 位置
A38: AMP-01 | B38: [CJS] PL10.0*2台 | C38: B371
A39: AMP-02 | B39: [CJS] PL10.0*2台 | C39: B371
A40: AMP-05 | B40: [CROWN] XTi6002*2台 | C40: B372
...
