Workbook

Sheet 秉冠音響出貨單
A1: 理貨人：
A2: 秉冠有限公司【音響 出貨單】
A3: 客戶： 活動地點： 進場：月日 撤場：月日 演出場次：
A4: 音響設備
A5: 音響控台設備 | B5: 數量 | C5: 備用 | D5: V | E5: 備註 | J5: 位置
E6: =IFERROR(VLOOKUP($A6,秉冠音響清單!$A$1:$B$193,2,0)&"","") | J6: =IFERROR(VLOOKUP($A6,秉冠音響清單!$A$1:$C$193,3,0)&"","")
E7: =IFERROR(VLOOKUP($A7,秉冠音響清單!$A$1:$B$193,2,0)&"","") | J7: =IFERROR(VLOOKUP($A7,秉冠音響清單!$A$1:$C$193,3,0)&"","")
A8: 音響控台擴充配件 / StageBox | B8: 數量 | C8: 備用 | D8: V | E8: 備註 | J8: 位置
E9: =IFERROR(VLOOKUP($A9,秉冠音響清單!$A$1:$B$193,2,0)&"","") | J9: =IFERROR(VLOOKUP($A9,秉冠音響清單!$A$1:$C$193,3,0)&"","")
E10: =IFERROR(VLOOKUP($A10,秉冠音響清單!$A$1:$B$193,2,0)&"","") | J10: =IFERROR(VLOOKUP($A10,秉冠音響清單!$A$1:$C$193,3,0)&"","")
A11: 主動式喇叭類及配件 | B11: 數量 | C11: 備用 | D11: V | E11: 備註 | J11: 位置
E12: =IFERROR(VLOOKUP($A12,秉冠音響清單!$A$1:$B$193,2,0)&"","") | J12: =IFERROR(VLOOKUP($A12,秉冠音響清單!$A$1:$C$193,3,0)&"","")
E13: =IFERROR(VLOOKUP($A13,秉冠音響清單!$A$1:$B$193,2,0)&"","") | J13: =IFERROR(VLOOKUP($A13,秉冠音響清單!$A$1:$C$193,3,0)&"","")
E14: =IFERROR(VLOOKUP($A14,秉冠音響清單!$A$1:$B$193,2,0)&"","") | J14: =IFERROR(VLOOKUP($A14,秉冠音響清單!$A$1:$C$193,3,0)&"","")
A15: 被動式喇叭類及配件 | B15: 數量 | C15: 備用 | D15: V | E15: 備註 | J15: 位置
E16: =IFERROR(VLOOKUP($A16,秉冠音響清單!$A$1:$B$193,2,0)&"","") | J16: =IFERROR(VLOOKUP($A16,秉冠音響清單!$A$1:$C$193,3,0)&"","")
E17: =IFERROR(VLOOKUP($A17,秉冠音響清單!$A$1:$B$193,2,0)&"","") | J17: =IFERROR(VLOOKUP($A17,秉冠音響清單!$A$1:$C$193,3,0)&"","")
A18: 擴大機AMPLIFIER | B18: 數量 | C18: 備用 | D18: V | E18: 備註 | J18: 位置
E19: =IFERROR(VLOOKUP($A19,秉冠音響清單!$A$1:$B$193,2,0)&"","") | J19: =IFERROR(VLOOKUP($A19,秉冠音響清單!$A$1:$C$193,3,0)&"","")
E20: =IFERROR(VLOOKUP($A20,秉冠音響清單!$A$1:$B$193,2,0)&"","") | J20: =IFERROR(VLOOKUP($A20,秉冠音響清單!$A$1:$C$193,3,0)&"","")
A21: LA 喇叭系統及配件 | B21: 數量 | C21: 備用 | D21: V | E21: 備註 | J21: 位置
J22: =IFERROR(VLOOKUP($A22,秉冠音響清單!$A$1:$C$193,3,0)&"","")
E23: =IFERROR(VLOOKUP($A23,秉冠音響清單!$A$1:$B$193,2,0)&"","") | J23: =IFERROR(VLOOKUP($A23,秉冠音響清單!$A$1:$C$193,3,0)&"","")
A24: 喇叭架及馬達 | B24: 數量 | C24: 備用 | D24: V | E24: 備註 | J24: 位置
E25: =IFERROR(VLOOKUP($A25,秉冠音響清單!$A$1:$B$193,2,0)&"","")
E26: =IFERROR(VLOOKUP($A26,秉冠音響清單!$A$1:$B$193,2,0)&"","") | J26: =IFERROR(VLOOKUP($A26,秉冠音響清單!$A$1:$C$193,3,0)&"","")
A27: MIPRO 無線麥克風 | B27: 數量 | C27: 備用 | D27: V | E27: 備註 | J27: 位置
E28: =IFERROR(VLOOKUP($A28,秉冠音響清單!$A$1:$B$193,2,0)&"","") | J28: =IFERROR(VLOOKUP($A28,秉冠音響清單!$A$1:$C$193,3,0)&"","")
E29: =IFERROR(VLOOKUP($A29,秉冠音響清單!$A$1:$B$193,2,0)&"","")
E30: =IFERROR(VLOOKUP($A30,秉冠音響清單!$A$1:$B$193,2,0)&"","") | J30: =IFERROR(VLOOKUP($A30,秉冠音響清單!$A$1:$C$193,3,0)&"","")
A31: SHURE/SENNHEISER/DPA/ IEM | B31: 數量 | C31: 備用 | D31: V | E31: 備註 | J31: 位置
E32: =IFERROR(VLOOKUP($A32,秉冠音響清單!$A$1:$B$193,2,0)&"","") | J32: =IFERROR(VLOOKUP($A32,秉冠音響清單!$A$1:$C$193,3,0)&"","")
E33: =IFERROR(VLOOKUP($A33,秉冠音響清單!$A$1:$B$193,2,0)&"","") | J33: =IFERROR(VLOOKUP($A33,秉冠音響清單!$A$1:$C$193,3,0)&"","")
A34: 麥克風強波器天線 | B34: 數量 | C34: 備用 | D34: V | E34: 備註 | J34: 位置
E35: =IFERROR(VLOOKUP($A35,秉冠音響清單!$A$1:$B$193,2,0)&"","")
E36: =IFERROR(VLOOKUP($A36,秉冠音響清單!$A$1:$B$193,2,0)&"","")
A37: 有線麥克風 | B37: 數量 | C37: 備用 | D37: V | E37: 備註 | J37: 位置
E38: =IFERROR(VLOOKUP($A38,秉冠音響清單!$A$1:$B$193,2,0)&"","") | J38: =IFERROR(VLOOKUP($A38,秉冠音響清單!$A$1:$C$193,3,0)&"","")
E39: =IFERROR(VLOOKUP($A39,秉冠音響清單!$A$1:$B$193,2,0)&"","") | J39: =IFERROR(VLOOKUP($A39,秉冠音響清單!$A$1:$C$193,3,0)&"","")
E42: =IFERROR(VLOOKUP($A42,秉冠音響清單!$A$1:$B$193,2,0)&"","") | J42: =IFERROR(VLOOKUP($A42,秉冠音響清單!$A$1:$C$193,3,0)&"","")
A43: 小王哥的有線麥克風 | B43: 數量 | C43: 備用 | D43: V | E43: 備註 | J43: 位置
E44: =IFERROR(VLOOKUP($A44,秉冠音響清單!$A$1:$B$193,2,0)&"","") | J44: =IFERROR(VLOOKUP($A44,秉冠音響清單!$A$1:$C$193,3,0)&"","")
A47: MIC架/譜架/譜燈/吉他架 | B47: 數量 | C47: 備用 | D47: V | E47: 備註 | J47: 位置
E48: =IFERROR(VLOOKUP($A48,秉冠音響清單!$A$1:$B$193,2,0)&"","") | J48: =IFERROR(VLOOKUP($A48,秉冠音響清單!$A$1:$C$193,3,0)&"","")
E49: =IFERROR(VLOOKUP($A49,秉冠音響清單!$A$1:$B$193,2,0)&"","") | J49: =IFERROR(VLOOKUP($A49,秉冠音響清單!$A$1:$C$193,3,0)&"","")
E50: =IFERROR(VLOOKUP($A50,秉冠音響清單!$A$1:$B$193,2,0)&"","") | J50: =IFERROR(VLOOKUP($A50,秉冠音響清單!$A$1:$C$193,3,0)&"","")
A51: 其他訊號配件 | B51: 數量 | C51: 備用 | D51: V | E51: 備註 | J51: 位置
E52: =IFERROR(VLOOKUP($A52,秉冠音響清單!$A$1:$B$193,2,0)&"","")
E53: =IFERROR(VLOOKUP($A53,秉冠音響清單!$A$1:$B$193,2,0)&"","")
E54: =IFERROR(VLOOKUP($A54,秉冠音響清單!$A$1:$B$193,2,0)&"","")
A55: 電池/對講機/無線耳機/屏風/其他 | B55: 數量 | C55: 備用 | D55: V | E55: 備註 | J55: 位置
E56: =IFERROR(VLOOKUP($A56,秉冠音響清單!$A$1:$B$193,2,0)&"","") | J56: =IFERROR(VLOOKUP($A56,秉冠音響清單!$A$1:$C$193,3,0)&"","")
E57: =IFERROR(VLOOKUP($A57,秉冠音響清單!$A$1:$B$193,2,0)&"","") | J57: =IFERROR(VLOOKUP($A57,秉冠音響清單!$A$1:$C$193,3,0)&"","")
E58: =IFERROR(VLOOKUP($A58,秉冠音響清單!$A$1:$B$193,2,0)&"","") | J58: =IFERROR(VLOOKUP($A58,秉冠音響清單!$A$1:$C$193,3,0)&"","")
A59: Intercom系統 | B59: 數量 | C59: 備用 | D59: V | E59: 備註 | J59: 位置
E60: =IFERROR(VLOOKUP($A60,秉冠音響清單!$A$1:$B$193,2,0)&"","") | J60: =IFERROR(VLOOKUP($A60,秉冠音響清單!$A$1:$C$193,3,0)&"","")
E61: =IFERROR(VLOOKUP($A61,秉冠音響清單!$A$1:$B$193,2,0)&"","") | J61: =IFERROR(VLOOKUP($A61,秉冠音響清單!$A$1:$C$193,3,0)&"","")
A62: CD播放器 | B62: 數量 | C62: 備用 | D62: V | E62: 備註 | J62: 位置
E63: =IFERROR(VLOOKUP($A63,秉冠音響清單!$A$1:$B$193,2,0)&"","") | J63: =IFERROR(VLOOKUP($A63,秉冠音響清單!$A$1:$C$193,3,0)&"","")
A64: 其他設備(可自行添加)、外租設備
A65: 其他 | B65: 數量 | C65: 備用 | D65: V | E65: 備註 | J65: 位置
A68: 燈架/舞台/膠帶/結構/Truss
A69: SHIN BASE / 燈架 / Boom Base | B69: 數量 | C69: V | D69: 屏風/紅龍/沙袋/1T馬達 | F69: 數量 | G69: V | H69: 豆扣 / 繩 / 雙臂扣 | I69: 數量 | J69: V
A73: 結構 (通) | B73: 數量 | C73: V | D73: 線槽 / 舞蹈地板 | F73: 數量 | G73: V | H73: 舞台布幕 / 布幕底桿 / 軌道 | I73: 數量 | J73: V
A77: 膠帶
A78: 地板膠帶 / 鋁箔膠帶 | B78: 數量 | C78: V | D78: 馬克膠帶 | F78: 數量 | G78: V | H78: 織布膠帶 | I78: 數量 | J78: V
A79: 地板膠帶 (黑色) | D79: 馬克膠帶 (黑色) | H79: 織布膠帶 (黑色)
A80: 地板膠帶 (透明) | D80: 馬克膠帶 (白色) | H80: 織布膠帶 (灰色)
A81: 二手地板膠帶 | D81: 馬克膠帶 (各色各一) | H81: 彩色織布膠帶
A82: 鋁箔膠帶 | D82: 螢光馬克 | H82: 織布雙面膠帶
A83: Truss
A84: Truss | B84: 數量 | C84: V | D84: Truss配件 | F84: 數量 | G84: V | H84: Truss 工具 | I84: 數量 | J84: V
A85: Truss 3米 | D85: Truss 0.5米 | H85: Truss工具
A86: Truss 2米 | D86: 六面頭 | H86: 木板底座
A87: Truss 1米 | D87: 底座 (60*60CM)
A88: 結構 (鷹架)
A89: 鷹架配件 | B89: 數量 | C89: V | D89: 鷹架配件 | F89: 數量 | G89: V | H89: 組合式鷹架 | I89: 數量 | J89: V
A90: 鷹架 (1.5米長*1.5米寬*1.5米高) | D90: 跨架 | H90: 新式組合鷹架
A91: 跨板 | D91: 水平腳架 (4支1組) | H91: Layer吊桿 (1米)
A92: 叉架 | D92: 鷹架輪子 (4個1組) | H92: 斜撐
A93: 3米帳篷
A94: 帳篷骨架 / 沙袋 | B94: 數量 | C94: V | D94: 帳篷頂篷 | F94: 數量 | G94: V | H94: 帳篷圍布 | I94: 數量 | J94: V
A95: 3米帳-頂篷架+4支橫桿+4支腳架 | D95: 3米帳-頂篷 (黑) | H95: 3米帳-圍布 (黑)
A96: 黑色沙袋 (10KG) | D96: 3米帳-頂篷 (白) | H96: 3米帳-圍布 (白)
A97: 綠色沙袋 (25KG) | D97: 豆扣+15cm束線帶 | H97: 3米帳-圍布 (透明)
A98: 線材
A99: 訊號線 | C99: 數量 | D99: V | E99: Multi多孔訊號線 | F99: 數量 | G99: V | H99: H插線材 | I99: 數量 | J99: V
A100: XLR-3PIN 訊號線－1.25米 | E100: 訊號線Multi 8對8－2米 | H100: H插1對4－10米
A101: XLR-3PIN 訊號線－2米 | E101: 訊號線Multi 8對8－3米 | H101: H插1對4－20米
A102: XLR-3PIN 訊號線－2.5米 | E102: 訊號線Multi 12對12－2米 | H102: H插1對3－5米
A103: XLR-3PIN 訊號線－3.5米 | E103: 訊號線Multi 12對12－3米 | H103: H插1對3－10米
A104: XLR-3PIN 訊號線－5米 | E104: 訊號線Multi 8對8－10米 | H104: H插1對3－15米
A105: XLR-3PIN 訊號線－10米 | E105: 訊號線Multi 8對8－20米 | H105: H插1對3－20米
A106: XLR-3PIN 訊號線－15米 | E106: 訊號線Multi 12對12－15米 | H106: H插1對1－5米
A107: XLR-3PIN 訊號線－20米 | E107: 訊號線Multi 12對12－20米 | H107: H插1對1－10米
A108: XLR-3PIN 訊號線－30米 | E108: 訊號線Multi 8公4母對8母4公－25米 | H108: H開關排插
A109: XLR-3PIN 訊號線－50米 | E109: 訊號線Multi 12對12－30米 | H109: Powercord 排插
E110: 訊號線Multi 8公4母對8母4公－50米 | H110: Powercord Link－1.5米
E111: 訊號線Multi 28對28－50米 | H111: 特效線（攤位線）
A112: 喇叭線材 | C112: 數量 | D112: V | E112: LA專用喇叭線 | F112: 數量 | G112: V | H112: 轉接線 | I112: 數量 | J112: V
...

Sheet 秉冠音響清單
A1: 音響設備
A2: 音響控台設備
A3: 設備 | B3: 固定配件/備註 | C3: 位置
A4: [MIDAS] M32 (32CH) | C4: B361
A5: [SoundCraft] SI Performer 3 (32CH) | C5: B335
A6: [SoundCraft] SI Performer 2 (24CH) | C6: B333
A7: [SoundCraft] Si Expression 1 (16CH) | C7: B332
A8: [Behringer] WING Compact (16CH)
A9: [Behringer] WING-BK (32CH)
A10: [YAMAHA] LS9 (32CH) | C10: B337
A11: [YAMAHA] MG166CX (16CH) | C11: B331
A12: [SoundCraft] EFX8 (8CH) | C12: B323
A13: [RCF] L-PAD 8CX (8CH) | C13: B321
A14: [Allen&Heath] ZED60-14FX (14CH) | C14: B322
A15: 音響控台StageBox 擴充
A16: 設備 | B16: 固定配件/備註 | C16: 位置
A17: [MIDAS] M32 Stage Box DL-153 | B17: 16in / 8out | C17: B336
A18: [MIDAS] DL32 Stage Box | B18: 32in / 16out
A19: [SoundCraft] Mini Stage Box | B19: 32in / 8out | C19: B361
A20: [SoundCraft] Compact Stage box | B20: 32in / 16out | C20: B362
A21: [Behringer] ADAT-8000＆光纖線 | C21: B511
A22: 主動式喇叭類及配件
A23: 設備 | B23: 固定配件/備註 | C23: 位置
A24: [JBL] PRX 715P (15吋) | C24: A9
A25: [JBL] SRX 815P (15吋) | C25: A7
A26: [RCF] ART 708-A MK4 (8吋) | C26: B221
A27: [JBL] 715P/815P 直立式喇叭吊架
A28: [JBL] 715P/815P 橫式喇叭吊架
A29: [三星] Auro D208 (8吋) | C29: B372
A30: 被動式喇叭類及配件
A31: 設備 | B31: 固定配件/備註 | C31: 位置
A32: [JBL] STX 815M (15吋) | C32: B221
A33: [JBL] STX 812M (12吋) | C33: B221
A34: [JBL] 618 (18吋SUB) | C34: B222
A35: HD-12 (12吋) | C35: B222
A36: AMPLIFIER擴大機
A37: 設備 | B37: 固定配件/備註 | C37: 位置
A38: AMP-01 | B38: [CJS] PL10.0*2台 | C38: B371
A39: AMP-02 | B39: [CJS] PL10.0*2台 | C39: B371
A40: AMP-05 | B40: [CROWN] XTi6002*2台 | C40: B372
A41: L-Acoustics 喇叭系統及配件
A42: 設備 | B42: 固定配件/備註 | C42: 位置
A43: [L-A] X12 (12吋) | C43: B123
A44: [L-A] X15 HIQ (15吋) | C44: B122
A45: [L-A] SB18 (18吋SUB) | C45: B121
A46: [L-A] KARA (陣列式) | C46: A11
A47: [L-A] SYVA (音柱) | B47: 中高音＋低音
A48: [L-A] X12/X15 直立式喇叭吊架
A49: [L-A] X12/X15 橫式喇叭吊架
A50: [L-A] KARA-MINIBUEX (系統吊架) | C50: A10
A51: [L-A] X8 (8吋)
A52: [L-A] 5XT (5吋)
A53: AMP-13 | B53: LA-4X *1
A54: AMP-14 | B54: LA-4X *1
A55: AMP-11 | B55: LA-8 *2、LA-4X *1 | C55: B372
A56: AMP-12 | B56: LA-8 *1、LA-4X *1、Lab Gruppen-PLM20000Q | C56: B372
A57: 喇叭架及馬達
A58: 設備 | B58: 固定配件/備註 | C58: 位置
A59: 喇叭手搖架 | C59: A311
A60: 喇叭直立架 (SUB專用) | C60: A312
A61: Kingstage 喇叭掛架 | C61: B831
A62: 氣壓式喇叭架 | C62: A1
A63: 插銷式喇叭架 | C63: A1
A64: 1T馬達 | B64: 附馬達控制器＋歐規延長線20M | C64: A8
A65: MIPRO-手握無線麥克風/MINI /耳掛(附強波器)
A66: 設備 | B66: 固定配件/備註 | C66: 位置
A67: [MIPRO] 5UB 麥克風主機01 (12ch) | B67: 主機 MIPRO ACT-74-5UB (12CH)+天線分配器 | C67: E243
A68: [MIPRO] 5UB 麥克風主機02 (12ch) | B68: 主機 MIPRO-ACT-74-5UB (12CH)+天線分配器 | C68: E243
A69: [MIPRO] 5UB 無線手握 | B69: 無線麥克風 MIPRO ACT-70H | C69: E233
A70: [MIPRO] 5UB PACK | B70: 無線腰掛發射器 MIPRO ACT-70T | C70: E232
A71: [MIPRO] 5UA 麥克風主機01 (8ch)
A72: [MIPRO] 5UA PACK
A73: [MIPRO] 6E 麥克風主機01 (8ch) | B73: 主機 MIPRO ACT-848-6E (8CH)+天線分配器 | C73: E241
A74: [MIPRO] 6E 麥克風主機02 (8ch) | B74: 主機 MIPRO ACT-848-6E (8CH)+天線分配器 | C74: E241
A75: [MIPRO] 6E 麥克風主機03 (8ch) | B75: 主機 MIPRO ACT-848-6E (8CH) | C75: E241
A76: [MIPRO] 6E 無線手握 | B76: 無線麥克風 MIPRO ACT-80H | C76: E231
A77: [MIPRO] 6E PACK | B77: 無線腰掛發射器 MIPRO ACT-80T | C77: E231
A78: [MIPRO] 6E 發射轉接器 TA-80 | B78: 專業數位發射轉接器 TA-80 | C78: Y
A79: [MIPRO] 6UA 麥克風主機01 (8ch)
A80: [MIPRO] 6UA 麥克風主機02 (8ch)
A81: [MIPRO] 6UA 無線手握
A82: [MIPRO] 6UA PACK
A83: [MIPRO] 6A 麥克風主機 (12ch) | B83: 主機 MIPRO-ACT-747B (12CH)+天線分配器 | C83: E245
A84: [MIPRO] 6A 無線手握 | B84: 無線麥克風 MIPRO ACT-72H | C84: E234
A85: [MIPRO] 6A PACK | B85: 無線腰掛發射器 MIPRO ACT-72T | C85: E234
A86: [MIPRO] Mini Mic | C86: X
A87: [MIPRO] 耳掛 | B87: MIPRO MU-55H | C87: Y
A88: PACK腰帶 | B88: 26"( )、28"( )、30"( )、32"( )、35"( )、40"( ) | C88: Y
A89: SHURE/SENNHEISER/DPA/ IEM
A90: 設備 | B90: 固定配件/備註 | C90: 位置
A91: [SHURE] QLXD 4 麥克風主機01 (4ch) | C91: E141
A92: [SHURE] QLXD 4 麥克風主機02 (4ch) | C92: E142
A93: [SHURE] QLXD 4 麥克風主機03 (2ch)
A94: [SHURE] QLXD 2 無線手握 | C94: X
A95: [SHURE] QLXD 1 PACK | B95: 無線腰掛發射器 | C95: E131
A96: [DPA] 6061 Mini Mic | C96: X
A97: [DPA] DAD6032 麥克風轉接頭 | C97: X
A98: [SENNHEISER] IEM耳塞式監聽 主機 | B98: 主機 Sennheiser IEM EW 300+集波器 | C98: E143
A99: [SENNHEISER] IEM耳塞式監聽 子機+小耳機 | B99: 子機 Sennheiser IEM EW 300+小耳機 | C99: X
A100: [SENNHEISER] EM-100 G3 主機 (8ch) | B100: 主機 Sennheiser EM-100 G3 | C100: E144
...
